BEGIN:VCALENDAR
VERSION:2.0
PRODID:-//SportPlan//Event Calendar//EN
CALSCALE:GREGORIAN
BEGIN:VEVENT
UID:af081e6d-d82e-4ae0-8696-28a41c702e8c@sportplan.local
DTSTAMP:20260421T190455Z
DTSTART;VALUE=DATE:20260627
DTEND;VALUE=DATE:20260628
SUMMARY:Marnaton eDreams Sant Feliu de Guíxols 2026
DESCRIPTION:Marnaton eDreams Sant Feliu de Guíxols returns on 27 June 2026 on the Costa Brava with 10.5 km\, 6 km\, 3.5 km\, 1.5 km\, and kids open-water races. The official organizer page emphasizes the signature crossing of El Freu and routes from Cala Pola\, Cala Canyet\, Canyer den Mieres\, and Port Salvi into Sant Feliu de Guíxols.
LOCATION:Sant Feliu de Guíxols\, Girona
URL:https://sportplan.vercel.app/es/events/marnaton-edreams-sant-feliu-de-guixols-2026-2026-06-27
END:VEVENT
END:VCALENDAR
