BEGIN:VCALENDAR
VERSION:2.0
PRODID:-//SportPlan//Event Calendar//EN
CALSCALE:GREGORIAN
BEGIN:VEVENT
UID:7be931ba-e1ed-4ff6-856f-56e3d96295eb@sportplan.local
DTSTAMP:20260421T202419Z
DTSTART;VALUE=DATE:20261010
DTEND;VALUE=DATE:20261011
SUMMARY:Marnaton eDreams Ibiza 2026
DESCRIPTION:
LOCATION:Port de Sant Miquel\, Ibiza
URL:https://sportplan.vercel.app/es/events/marnaton-edreams-ibiza-2026-2026-10-10
END:VEVENT
END:VCALENDAR
