BEGIN:VCALENDAR
VERSION:2.0
PRODID:-//SportPlan//Event Calendar//EN
CALSCALE:GREGORIAN
BEGIN:VEVENT
UID:d6d9475e-1587-45de-9648-f2c4f4aaf5c0@sportplan.local
DTSTAMP:20260422T021026Z
DTSTART;VALUE=DATE:20260609
DTEND;VALUE=DATE:20260610
SUMMARY:Maratón Internacional de Punta del Este – English
DESCRIPTION:Confirmed live HTTP 200\; English-language homepage for Maratón Internacional de Punta del Este 2026\; date 09/06/26 confirmed\; UY TIER1 first seeding — Beast Special run 2026-03-29
LOCATION:Punta del Este\, Uruguay
URL:https://sportplan.vercel.app/es/events/maraton-internacional-de-punta-del-este-english-2026-06-09
END:VEVENT
END:VCALENDAR
