BEGIN:VCALENDAR
VERSION:2.0
PRODID:-//SportPlan//Event Calendar//EN
CALSCALE:GREGORIAN
BEGIN:VEVENT
UID:9823c085-7b5e-4dc8-aa26-fd0316fcfbbc@sportplan.local
DTSTAMP:20260422T015320Z
DTSTART;VALUE=DATE:20260609
DTEND;VALUE=DATE:20260610
SUMMARY:Maratón Internacional de Punta del Este – Course Maps
DESCRIPTION:Confirmed live HTTP 200\; official course map page for Maratón Internacional de Punta del Este 2026\; World Athletics certified marathon route along the Rambla and coastal roads of Punta del Este peninsula\; UY TIER1 first seeding — Beast Special run 2026-03-29
LOCATION:Punta del Este\, Uruguay
URL:https://sportplan.vercel.app/es/events/maraton-internacional-de-punta-del-este-course-maps-2026-06-09
END:VEVENT
END:VCALENDAR
