BEGIN:VCALENDAR
VERSION:2.0
PRODID:-//SportPlan//Event Calendar//EN
CALSCALE:GREGORIAN
BEGIN:VEVENT
UID:1ae17070-7574-407c-8d65-906351882316@sportplan.local
DTSTAMP:20260421T224303Z
DTSTART;VALUE=DATE:20260510
DTEND;VALUE=DATE:20260511
SUMMARY:Maratón internacional\n  de Montevideo
DESCRIPTION:El evento de calle más importante de Montevideo
LOCATION:Montevideo\, Uruguay
URL:https://sportplan.vercel.app/es/events/maraton-internacional-de-montevideo-2026-05-10
END:VEVENT
END:VCALENDAR
