BEGIN:VCALENDAR
VERSION:2.0
PRODID:-//SportPlan//Event Calendar//EN
CALSCALE:GREGORIAN
BEGIN:VEVENT
UID:0654d3ec-cf06-49cd-b299-3e52f194da11@sportplan.local
DTSTAMP:20260421T224542Z
DTSTART;VALUE=DATE:20260830
DTEND;VALUE=DATE:20260831
SUMMARY:Maratón Internacional de Asunción (MIA) 2026
DESCRIPTION:Official MIA event subpage discovered via search\; Paraguay Marathon Club event.
LOCATION:Costanera de Asunción\, Asunción\, Paraguay
URL:https://sportplan.vercel.app/es/events/maraton-internacional-de-asuncion-mia-2026-2026-08-30
END:VEVENT
END:VCALENDAR
