BEGIN:VCALENDAR
VERSION:2.0
PRODID:-//SportPlan//Event Calendar//EN
CALSCALE:GREGORIAN
BEGIN:VEVENT
UID:df7a6509-91a1-4c12-bc2d-55d5738b6681@sportplan.local
DTSTAMP:20260421T224304Z
DTSTART;VALUE=DATE:20260830
DTEND;VALUE=DATE:20260831
SUMMARY:Maratón Internacional de Asunción
DESCRIPTION:AIMS
LOCATION:Costanera de Asunción\, Paraguay
URL:https://sportplan.vercel.app/es/events/maraton-internacional-de-asuncion-2026-08-30
END:VEVENT
END:VCALENDAR
