BEGIN:VCALENDAR
VERSION:2.0
PRODID:-//SportPlan//Event Calendar//EN
CALSCALE:GREGORIAN
BEGIN:VEVENT
UID:730f4c2e-2473-442b-9013-eb412c7538ac@sportplan.local
DTSTAMP:20260421T201029Z
DTSTART;VALUE=DATE:20260426
DTEND;VALUE=DATE:20260427
SUMMARY:Marató del Mediterrani Racc - 10K
DESCRIPTION:Official Zona Vip Events page for Marató del Mediterrani RACC in Castelldefels confirms the 10K race is part of the event weekend on 26 April 2026\, with bib pickup on 24 to 26 April and race-day timetable showing the 10K start at 09:45.
LOCATION:Castelldefels\, Barcelona\, Cataluña
URL:https://sportplan.vercel.app/es/events/marato-del-mediterrani-racc-10k-castelldefels-2026-04-21-10k
END:VEVENT
END:VCALENDAR
