BEGIN:VCALENDAR
VERSION:2.0
PRODID:-//SportPlan//Event Calendar//EN
CALSCALE:GREGORIAN
BEGIN:VEVENT
UID:dd7666ed-5587-4a69-899a-aba3809b3f4e@sportplan.local
DTSTAMP:20260421T184802Z
DTSTART;VALUE=DATE:20260222
DTEND;VALUE=DATE:20260223
SUMMARY:Maratón de Sevilla
DESCRIPTION:Zurich Maratón de Sevilla is the official Seville road-racing event presented on its organizer site as one of Europe's flattest marathon courses. The official site also highlights the 5K Breakfast Run\, runner expo\, volunteer program\, training plans\, and extensive on-course entertainment around race weekend.
LOCATION:Sevilla\, Centro Histórico
URL:https://sportplan.vercel.app/es/events/marat-n-de-sevilla-sevilla-2026-02-22
END:VEVENT
END:VCALENDAR
