BEGIN:VCALENDAR
VERSION:2.0
PRODID:-//SportPlan//Event Calendar//EN
CALSCALE:GREGORIAN
BEGIN:VEVENT
UID:7e897dff-9e1d-486b-98ba-61431980f05e@sportplan.local
DTSTAMP:20260421T200857Z
DTSTART;VALUE=DATE:20260621
DTEND;VALUE=DATE:20260622
SUMMARY:Luštica Aquathlon 2026
DESCRIPTION:Luštica Aquathlon 2026 is an official Montenegro Triathlon Federation race on 21 June 2026 in Luštica. The federation's 2026 competition calendar lists Luštica as the national aquathlon championship venue and names TK Multisport akademija Mayer as organizer\, making the federation calendar page the canonical official athlete-facing source currently verified from this environment.
LOCATION:Luštica
URL:https://sportplan.vercel.app/es/events/lustica-aquathlon-2026-lustica-2026-06-21
END:VEVENT
END:VCALENDAR
