BEGIN:VCALENDAR
VERSION:2.0
PRODID:-//SportPlan//Event Calendar//EN
CALSCALE:GREGORIAN
BEGIN:VEVENT
UID:240a0297-4d01-473a-9a06-3c14b6c85064@sportplan.local
DTSTAMP:20260421T223108Z
DTSTART;VALUE=DATE:20260425
DTEND;VALUE=DATE:20260426
SUMMARY:Liège-Bastogne-Liège Challenge
DESCRIPTION:The official Liège-Bastogne-Liège Challenge site invites amateur riders to tackle key climbs from the Liège-Bastogne-Liège finale on Saturday 25 April 2026\, one day before the professional race.
LOCATION:Liège
URL:https://sportplan.vercel.app/es/events/liege-bastogne-liege-challenge-liege-2026-04-25
END:VEVENT
END:VCALENDAR
