BEGIN:VCALENDAR
VERSION:2.0
PRODID:-//SportPlan//Event Calendar//EN
CALSCALE:GREGORIAN
BEGIN:VEVENT
UID:22a4ac69-0158-4d04-b06d-73012d62d92f@sportplan.local
DTSTAMP:20260421T224831Z
DTSTART;VALUE=DATE:20261220
DTEND;VALUE=DATE:20261221
SUMMARY:Lidl São Silvestre Cidade do Porto
DESCRIPTION:Lidl São Silvestre Cidade do Porto acontece em 20 de dezembro de 2026\, em Oporto. É uma boa opção para quem quer aproveitar o evento ao vivo e organizar o dia com antecedência. Vale a pena confirmar acessos\, horários e estrutura do local antes de sair.
LOCATION:Oporto
URL:https://sportplan.vercel.app/es/events/lidl-sao-silvestre-cidade-do-porto-oporto-2026-12-20
END:VEVENT
END:VCALENDAR
