BEGIN:VCALENDAR
VERSION:2.0
PRODID:-//SportPlan//Event Calendar//EN
CALSCALE:GREGORIAN
BEGIN:VEVENT
UID:27ab2b9d-b603-410b-b982-4ce3a9dadd9d@sportplan.local
DTSTAMP:20260421T212346Z
DTSTART;VALUE=DATE:20260424
DTEND;VALUE=DATE:20260425
SUMMARY:Les Bosses 72
DESCRIPTION:Les Bosses 72 a lieu à Sarthe le 24 avril 2026. C’est un rendez-vous parfait pour profiter d’une belle journée de course\, avec un parcours de 180 km\, idéal autant pour viser un chrono que pour profiter de l’ambiance locale. Que vous visiez la performance ou une expérience plus conviviale\, l’événement promet une ambiance motivante du début à la fin.
LOCATION:Sarthe
URL:https://sportplan.vercel.app/es/events/les-bosses-72-sarthe-2026-04-24
END:VEVENT
END:VCALENDAR
