BEGIN:VCALENDAR
VERSION:2.0
PRODID:-//SportPlan//Event Calendar//EN
CALSCALE:GREGORIAN
BEGIN:VEVENT
UID:716df5f4-9617-42b1-a3c2-c9bd3e68c523@sportplan.local
DTSTAMP:20260421T212620Z
DTSTART;VALUE=DATE:20260424
DTEND;VALUE=DATE:20260426
SUMMARY:Les 10 KM d'Epernay Pays de Champagne
DESCRIPTION:Les 10 KM d'Epernay Pays de Champagne a lieu à Épernay le 24 avril 2026. C’est un rendez-vous parfait pour profiter d’une belle journée de course\, avec un parcours de 10 km\, idéal autant pour viser un chrono que pour profiter de l’ambiance locale. Que vous visiez la performance ou une expérience plus conviviale\, l’événement promet une ambiance motivante du début à la fin.
LOCATION:Épernay
URL:https://sportplan.vercel.app/es/events/les-10-km-d-epernay-pays-de-champagne-epernay-2026-04-24
END:VEVENT
END:VCALENDAR
