BEGIN:VCALENDAR
VERSION:2.0
PRODID:-//SportPlan//Event Calendar//EN
CALSCALE:GREGORIAN
BEGIN:VEVENT
UID:1c228ea1-280d-4339-9091-4632587ebf3d@sportplan.local
DTSTAMP:20260421T224527Z
DTSTART;VALUE=DATE:20261011
DTEND;VALUE=DATE:20261012
SUMMARY:IRONMAN 70.3 Encarnación – Community
DESCRIPTION:Discovered via official IRONMAN race menu with web_fetch\; stable event subpage.
LOCATION:Encarnación\, Paraguay
URL:https://sportplan.vercel.app/es/events/ironman-70-3-encarnacion-community-2026-10-11
END:VEVENT
END:VCALENDAR
