BEGIN:VCALENDAR
VERSION:2.0
PRODID:-//SportPlan//Event Calendar//EN
CALSCALE:GREGORIAN
BEGIN:VEVENT
UID:6b47680c-679e-4835-a9e3-54d7c5d2d27d@sportplan.local
DTSTAMP:20260421T214501Z
DTSTART;VALUE=DATE:20260913
DTEND;VALUE=DATE:20260914
SUMMARY:IRONMAN 70.3 Belgrade – Registration
DESCRIPTION:Official IRONMAN 70.3 Belgrade registration row for the amateur-enterable Serbia race on 13 September 2026. The official IRONMAN race site presents the event as a swim in Lake Sava\, a bike course through the streets of Belgrade\, and a run past iconic city landmarks\, with public registration and athlete information on the canonical race domain.
LOCATION:Belgrade\, Serbia
URL:https://sportplan.vercel.app/es/events/ironman-70-3-belgrade-registration-2026-09-13
END:VEVENT
END:VCALENDAR
