BEGIN:VCALENDAR
VERSION:2.0
PRODID:-//SportPlan//Event Calendar//EN
CALSCALE:GREGORIAN
BEGIN:VEVENT
UID:3d919895-2ac8-4966-af6f-539092b9ecca@sportplan.local
DTSTAMP:20260421T212407Z
DTSTART;VALUE=DATE:20260424
DTEND;VALUE=DATE:20260425
SUMMARY:Infinity Trail - Hossegor - Landes
DESCRIPTION:Infinity Trail - Hossegor - Landes a lieu à Hossegor le 24 avril 2026. C’est un rendez-vous parfait pour profiter d’une belle journée de course\, avec un parcours de 6.71 km\, idéal autant pour viser un chrono que pour profiter de l’ambiance locale. Que vous visiez la performance ou une expérience plus conviviale\, l’événement promet une ambiance motivante du début à la fin.
LOCATION:Hossegor
URL:https://sportplan.vercel.app/es/events/infinity-trail-hossegor-landes-hossegor-2026-04-24
END:VEVENT
END:VCALENDAR
