BEGIN:VCALENDAR
VERSION:2.0
PRODID:-//SportPlan//Event Calendar//EN
CALSCALE:GREGORIAN
BEGIN:VEVENT
UID:b617cd30-6d15-4240-a192-c1bc3ceeb7e8@sportplan.local
DTSTAMP:20260421T202448Z
DTSTART;VALUE=DATE:20261025
DTEND;VALUE=DATE:20261026
SUMMARY:Ibiza Sprint Triathlon
DESCRIPTION:Ibiza Sprint Triathlon se celebrará el 25 de octubre de 2026 en Ibiza. Es una buena cita para quienes quieren vivir el ambiente del evento en directo y planificar la jornada con antelación. Conviene revisar accesos\, horarios y servicios del recinto antes de salir.
LOCATION:Ibiza
URL:https://sportplan.vercel.app/es/events/ibiza-sprint-triathlon-ibiza-2026-10-25
END:VEVENT
END:VCALENDAR
