BEGIN:VCALENDAR
VERSION:2.0
PRODID:-//SportPlan//Event Calendar//EN
CALSCALE:GREGORIAN
BEGIN:VEVENT
UID:de4aa178-adaf-4cd9-a3f8-da15d1e47218@sportplan.local
DTSTAMP:20260422T002205Z
DTSTART;VALUE=DATE:20260918
DTEND;VALUE=DATE:20260921
SUMMARY:HYROX Mumbai 2026
DESCRIPTION:HYROX Mumbai 2026 is the official HYROX Mumbai race weekend\, scheduled from 18 to 20 September 2026 at the NESCO Centre in Mumbai\, India. The organizer-owned event page presents the amateur-enterable fitness race and confirms the three-day return of HYROX to Mumbai.
LOCATION:NESCO Centre\, Mumbai\, India
URL:https://sportplan.vercel.app/es/events/hyrox-mumbai-2026-09-18
END:VEVENT
END:VCALENDAR
