BEGIN:VCALENDAR
VERSION:2.0
PRODID:-//SportPlan//Event Calendar//EN
CALSCALE:GREGORIAN
BEGIN:VEVENT
UID:67ee9849-35b0-477d-ba06-dd7cfbfe2aad@sportplan.local
DTSTAMP:20260421T200623Z
DTSTART;VALUE=DATE:20260801
DTEND;VALUE=DATE:20260803
SUMMARY:Hyrox Istanbul 2026
DESCRIPTION:HYROX Istanbul is listed on the official HYROX event calendar as the Istanbul edition of the fitness racing series. The official event page presents this as a participant-facing Turkish HYROX race under the global HYROX registration and event program.
LOCATION:Istanbul\, Istanbul
URL:https://sportplan.vercel.app/es/events/hyrox-istanbul-2026-istanbul-2026-11-21
END:VEVENT
END:VCALENDAR
