BEGIN:VCALENDAR
VERSION:2.0
PRODID:-//SportPlan//Event Calendar//EN
CALSCALE:GREGORIAN
BEGIN:VEVENT
UID:a08c780d-cef7-46a7-bfc9-342357d09c93@sportplan.local
DTSTAMP:20260421T213754Z
DTSTART;VALUE=DATE:20261018
DTEND;VALUE=DATE:20261019
SUMMARY:Granfondo La Nucia 2026
DESCRIPTION:Granfondo La Nucía 2026 is scheduled for 18 October 2026 on the official organizer site\, which presents La Nucía Cycling as a UCI Gran Fondo World Series weekend with participant information and registration paths.
LOCATION:La Nucia (Alicante)\, ES
URL:https://sportplan.vercel.app/es/events/granfondo-la-nucia-la-nucia-2026-10-18
END:VEVENT
END:VCALENDAR
