BEGIN:VCALENDAR
VERSION:2.0
PRODID:-//SportPlan//Event Calendar//EN
CALSCALE:GREGORIAN
BEGIN:VEVENT
UID:cda96899-1296-4985-a473-56fb4f5410b0@sportplan.local
DTSTAMP:20260421T200918Z
DTSTART;VALUE=DATE:20261012
DTEND;VALUE=DATE:20261013
SUMMARY:Gnt Events Leukos Olympie Triathlon
DESCRIPTION:Gnt Events Leukos Olympie Triathlon aura lieu le 12 octobre 2026 à Leucate. C'est un rendez-vous idéal pour les participants en quête d'une organisation solide et d'une belle ambiance de course\, avec un parcours de 80 km. Une épreuve pensée autant pour viser la performance que pour profiter pleinement de l'expérience sur place.
LOCATION:Leucate
URL:https://sportplan.vercel.app/es/events/gnt-events-leukos-olympie-triathlon-leucate-2026-10-12
END:VEVENT
END:VCALENDAR
