BEGIN:VCALENDAR
VERSION:2.0
PRODID:-//SportPlan//Event Calendar//EN
CALSCALE:GREGORIAN
BEGIN:VEVENT
UID:552e248f-fe26-4028-83f4-1992f20219a0@sportplan.local
DTSTAMP:20260421T200751Z
DTSTART;VALUE=DATE:20260425
DTEND;VALUE=DATE:20260427
SUMMARY:GNT Events : Côte du Midi Tri - Narbonne (11)
DESCRIPTION:GNT Events : Côte du Midi Tri - Narbonne (11) : toutes les informations sur cette épreuve\, tous les résultats de toutes les éditions des différents formats de course\, toutes les statistiques\, tous les parcours...
LOCATION:Narbonne\, Occitanie\, France
URL:https://sportplan.vercel.app/es/events/gnt-events-cote-du-midi-tri-narbonne-11-2026-04-25
END:VEVENT
END:VCALENDAR
