BEGIN:VCALENDAR
VERSION:2.0
PRODID:-//SportPlan//Event Calendar//EN
CALSCALE:GREGORIAN
BEGIN:VEVENT
UID:f6bbce78-50d9-49ff-9b50-971c3d7f7ad5@sportplan.local
DTSTAMP:20260421T213518Z
DTSTART;VALUE=DATE:20261027
DTEND;VALUE=DATE:20261028
SUMMARY:EDP Sobrescobio Redes Trail - Combinada
DESCRIPTION:EDP Sobrescobio Redes Trail - Combinada se celebrará el 27 de octubre de 2026 en Rioseco\, Asturias\, Asturias. Es una buena cita para quienes quieren vivir el ambiente del evento en directo y planificar la jornada con antelación. La sede prevista está a unos 43 km\, así que conviene revisar accesos\, horarios y servicios antes de salir.
LOCATION:Rioseco\, Asturias\, Asturias
URL:https://sportplan.vercel.app/es/events/edp-sobrescobio-redes-trail-combinada-rioseco-2026-10-27-43k
END:VEVENT
END:VCALENDAR
