BEGIN:VCALENDAR
VERSION:2.0
PRODID:-//SportPlan//Event Calendar//EN
CALSCALE:GREGORIAN
BEGIN:VEVENT
UID:fe83a72f-7e2c-4d46-8693-2143df4593ac@sportplan.local
DTSTAMP:20260421T184855Z
DTSTART;VALUE=DATE:20260214
DTEND;VALUE=DATE:20260215
SUMMARY:Doi Suthep Trail 50K 2026
DESCRIPTION:Doi Suthep Trail 50K 2026 uses the official Thai.run participant registration page for event entry on 14 February 2026 in Thailand. The organizer-linked registration page is the directly verified public source available from this runtime for the 2026 event.
LOCATION:Chiang Mai\, Chiang Mai
URL:https://sportplan.vercel.app/es/events/doi-suthep-trail-50k-2026-chiang-mai-2026-02-14
END:VEVENT
END:VCALENDAR
