BEGIN:VCALENDAR
VERSION:2.0
PRODID:-//SportPlan//Event Calendar//EN
CALSCALE:GREGORIAN
BEGIN:VEVENT
UID:73e4b2e7-4022-4152-8b4e-79003112f38a@sportplan.local
DTSTAMP:20260421T200948Z
DTSTART;VALUE=DATE:20260418
DTEND;VALUE=DATE:20260419
SUMMARY:Divertiland TriKIDS Duatlon by Seven 2026
DESCRIPTION:Divertiland TriKIDS Duatlon by Seven 2026 is an official Romanian youth duathlon on 18 April 2026 at Divertiland Park in Chiajna\, Ilfov. The Romanian Triathlon Federation event page names Seven Club and publishes the official participant-facing event page and image.
LOCATION:Divertiland Park
URL:https://sportplan.vercel.app/es/events/divertiland-trikids-duatlon-by-seven-2026-chiajna-2026-04-18
END:VEVENT
END:VCALENDAR
