BEGIN:VCALENDAR
VERSION:2.0
PRODID:-//SportPlan//Event Calendar//EN
CALSCALE:GREGORIAN
BEGIN:VEVENT
UID:8cc3782f-06be-42a6-8a23-2f39aad35820@sportplan.local
DTSTAMP:20260421T213631Z
DTSTART;VALUE=DATE:20260328
DTEND;VALUE=DATE:20260329
SUMMARY:Cros Duatlon Iarcuri Cornești 2026
DESCRIPTION:Cros Duatlon Iarcuri Cornești 2026 is an official Romanian amateur cross duathlon on 28 March 2026 at Iarcuri Cornești in Timiș County. The Romanian Triathlon Federation event page names ACS Ride Competition as organizer and provides the event-specific official page and image for the national championship race.
LOCATION:Cornești
URL:https://sportplan.vercel.app/es/events/cros-duatlon-iarcuri-cornesti-2026-2026-03-28
END:VEVENT
END:VCALENDAR
