BEGIN:VCALENDAR
VERSION:2.0
PRODID:-//SportPlan//Event Calendar//EN
CALSCALE:GREGORIAN
BEGIN:VEVENT
UID:f7546c61-7183-4a76-9188-6d5e5943ae7c@sportplan.local
DTSTAMP:20260421T212414Z
DTSTART;VALUE=DATE:20260422
DTEND;VALUE=DATE:20260424
SUMMARY:Course des 5 Moulins
DESCRIPTION:Course des 5 Moulins a lieu à Dreux le 22 avril 2026. C’est un rendez-vous parfait pour profiter d’une belle journée de course\, avec un parcours de 21.1 km\, idéal autant pour viser un chrono que pour profiter de l’ambiance locale. Que vous visiez la performance ou une expérience plus conviviale\, l’événement promet une ambiance motivante du début à la fin.
LOCATION:Dreux
URL:https://sportplan.vercel.app/es/events/course-des-5-moulins-dreux-2026-04-22
END:VEVENT
END:VCALENDAR
