BEGIN:VCALENDAR
VERSION:2.0
PRODID:-//SportPlan//Event Calendar//EN
CALSCALE:GREGORIAN
BEGIN:VEVENT
UID:efaf55a9-037c-4f61-aa6c-de9423e90866@sportplan.local
DTSTAMP:20260422T020832Z
DTSTART;VALUE=DATE:20260704
DTEND;VALUE=DATE:20260705
SUMMARY:Cougar Trail Run
DESCRIPTION:Cougar Trail Run is the official South Waikato trail-running event on 4 July 2026\, offering 21.1 km\, 14.5 km\, and 7 km course options on purpose-built trails at Cougar Mountain Bike Park near Tokoroa.
LOCATION:Waikato River
URL:https://sportplan.vercel.app/es/events/cougar-trail-run-waikato-river-2026-07-04
END:VEVENT
END:VCALENDAR
