BEGIN:VCALENDAR
VERSION:2.0
PRODID:-//SportPlan//Event Calendar//EN
CALSCALE:GREGORIAN
BEGIN:VEVENT
UID:512c217e-1301-4838-b4f8-d80fec0baf93@sportplan.local
DTSTAMP:20260421T224714Z
DTSTART;VALUE=DATE:20260613
DTEND;VALUE=DATE:20260614
SUMMARY:Corrida Porto de Viana
DESCRIPTION:Corrida Porto de Viana acontece em Viana do Castelo no dia 13 de junho de 2026. Esta prova oferece uma experiência de corrida bem organizada\, ideal para corredores que procuram um desafio bem definido. É uma ótima oportunidade para aproveitar o ambiente do evento\, testar o seu ritmo e viver um dia esportivo em Viana do Castelo.
LOCATION:Viana do Castelo
URL:https://sportplan.vercel.app/es/events/corrida-porto-de-viana-viana-do-castelo-2026-06-13
END:VEVENT
END:VCALENDAR
