BEGIN:VCALENDAR
VERSION:2.0
PRODID:-//SportPlan//Event Calendar//EN
CALSCALE:GREGORIAN
BEGIN:VEVENT
UID:743d3353-f6f2-4c09-9050-7cce5417c72f@sportplan.local
DTSTAMP:20260421T213738Z
DTSTART;VALUE=DATE:20260418
DTEND;VALUE=DATE:20260419
SUMMARY:CN Duatlon Sprint 2026
DESCRIPTION:CN Duatlon Sprint 2026 is an official Romanian Triathlon Federation sprint duathlon on 18 April 2026 at Divertiland Park in Chiajna\, Ilfov. The federation event page identifies it as a participant-facing duathlon sprint organized with Seven Club and provides the official event image and venue on the organizer-owned domain.
LOCATION:Divertiland Park\, Chiajna
URL:https://sportplan.vercel.app/es/events/cn-duatlon-sprint-2026-chiajna-2026-04-18
END:VEVENT
END:VCALENDAR
