BEGIN:VCALENDAR
VERSION:2.0
PRODID:-//SportPlan//Event Calendar//EN
CALSCALE:GREGORIAN
BEGIN:VEVENT
UID:f268605e-b89a-4053-aa26-8f3a3d4eff5c@sportplan.local
DTSTAMP:20260421T224616Z
DTSTART;VALUE=DATE:20260502
DTEND;VALUE=DATE:20260503
SUMMARY:Chiswick Amateur Regatta 2026
DESCRIPTION:British Rowing's official 2026 competition calendar lists Chiswick Amateur Regatta on 2 May 2026 and marks it open for entries. The official regatta site publishes competitor instructions\, course diagrams\, safety information\, and other participant-facing details.
LOCATION:Chiswick\, London\, United Kingdom
URL:https://sportplan.vercel.app/es/events/chiswick-amateur-regatta-2026-chiswick-2026-05-02
END:VEVENT
END:VCALENDAR
