BEGIN:VCALENDAR
VERSION:2.0
PRODID:-//SportPlan//Event Calendar//EN
CALSCALE:GREGORIAN
BEGIN:VEVENT
UID:91f09410-00e8-4c5c-b009-308df15e87ed@sportplan.local
DTSTAMP:20260421T224846Z
DTSTART;VALUE=DATE:20260525
DTEND;VALUE=DATE:20260526
SUMMARY:Carrera Popular Xlii Cross Antonio Amorós-Crisnova Vidrio
DESCRIPTION:Carrera Popular Xlii Cross Antonio Amorós-Crisnova Vidrio se celebrará el 25 de mayo de 2026 en Caudete\, Albacete\, Castilla-La Mancha. Es una cita ideal para quienes buscan disfrutar del ambiente del evento y vivir una experiencia deportiva bien organizada\, con un recorrido aproximado de 10 km. Perfecto tanto para participantes habituales como para quienes quieren sumar un nuevo reto al calendario.
LOCATION:Caudete\, Albacete\, Castilla-La Mancha
URL:https://sportplan.vercel.app/es/events/carrera-popular-xlii-cross-antonio-amoros-crisnova-vidrio-caudete-2026-05-25-10-
END:VEVENT
END:VCALENDAR
