BEGIN:VCALENDAR
VERSION:2.0
PRODID:-//SportPlan//Event Calendar//EN
CALSCALE:GREGORIAN
BEGIN:VEVENT
UID:9e7dd319-6720-469e-b334-0e841987812e@sportplan.local
DTSTAMP:20260422T015914Z
DTSTART;VALUE=DATE:20260322
DTEND;VALUE=DATE:20260323
SUMMARY:Canicross Pitallat
DESCRIPTION:Canicross Pitallat is carried in the official Mussuk Team 2025/2026 mushing competition calendar\, the organizer-run public calendar used as the canonical source family for this Catalonia canicross series listing. This row now uses that official calendar page as its participant-facing source and series image\, while keeping the event-specific title\, date\, and place already recorded on the event entry.
LOCATION:Sant Andreu de la Barca
URL:https://sportplan.vercel.app/es/events/canicross-pitallat-sant-andreu-de-la-barca-2026-03-22
END:VEVENT
END:VCALENDAR
