BEGIN:VCALENDAR
VERSION:2.0
PRODID:-//SportPlan//Event Calendar//EN
CALSCALE:GREGORIAN
BEGIN:VEVENT
UID:0470eaa6-b343-47d9-bcfc-210029d43394@sportplan.local
DTSTAMP:20260422T021136Z
DTSTART;VALUE=DATE:20260926
DTEND;VALUE=DATE:20260927
SUMMARY:Bucharest Youth Games - Duatlon Scolar 2026
DESCRIPTION:Bucharest Youth Games - Duatlon Scolar 2026 is an official Romanian school duathlon on 26 September 2026 in București. The Romanian Triathlon Federation event page identifies it as a duathlon event\, provides the official event-specific page and image\, and names Asociația Praxis Edu as organizer.
LOCATION:București
URL:https://sportplan.vercel.app/es/events/bucharest-youth-games-duatlon-scolar-2026-bucuresti-2026-09-26
END:VEVENT
END:VCALENDAR
