BEGIN:VCALENDAR
VERSION:2.0
PRODID:-//SportPlan//Event Calendar//EN
CALSCALE:GREGORIAN
BEGIN:VEVENT
UID:e8709365-bfdd-494d-9c82-156df0466b46@sportplan.local
DTSTAMP:20260422T005657Z
DTSTART;VALUE=DATE:20260221
DTEND;VALUE=DATE:20260222
SUMMARY:Bieg Piastów 50 km CT 2026
DESCRIPTION:Bieg Piastów 50 km CT is the official 50 km classic-technique amateur race of the 50th Bieg Piastów Cross-Country Ski Festival in Jakuszyce\, Poland\, on 21 February 2026. The organizer presents it as a Worldloppet race through the Jizera Mountains with a long-standing mass-participation tradition and open amateur entry.
LOCATION:Polana Jakuszycka\, Jakuszyce\, Poland
URL:https://sportplan.vercel.app/es/events/bieg-piast-w-ski-50k-2026-jakuszyce-2026-03-07
END:VEVENT
END:VCALENDAR
