BEGIN:VCALENDAR
VERSION:2.0
PRODID:-//SportPlan//Event Calendar//EN
CALSCALE:GREGORIAN
BEGIN:VEVENT
UID:aa522f18-7cb9-475b-8a53-6f5c8fda879d@sportplan.local
DTSTAMP:20260421T183844Z
DTSTART;VALUE=DATE:20260403
DTEND;VALUE=DATE:20260404
SUMMARY:AIA HYROX Singapore
DESCRIPTION:HYROX Singapore presents HYROX as the sport of fitness racing\, pairing 8 x 1 km runs with 8 workout stations and offering participant-friendly solo\, doubles\, and relay race formats.
LOCATION:Singapore
URL:https://sportplan.vercel.app/es/events/aia-hyrox-singapore-2026-04-03
END:VEVENT
END:VCALENDAR
