BEGIN:VCALENDAR
VERSION:2.0
PRODID:-//SportPlan//Event Calendar//EN
CALSCALE:GREGORIAN
BEGIN:VEVENT
UID:f5a8b694-33dc-4808-9631-a16808538e30@sportplan.local
DTSTAMP:20260421T212534Z
DTSTART;VALUE=DATE:20260425
DTEND;VALUE=DATE:20260426
SUMMARY:6h du Mont Glonne 2026 — 6h Duo (Relais)
DESCRIPTION:6h du Mont Glonne 2026 — 6h Duo (Relais) a lieu à Saint-Florent-le-Vieil le 25 avril 2026. C’est un rendez-vous parfait pour profiter d’une belle journée de course\, avec une belle ambiance de course et un parcours adapté à différents profils de coureurs. Que vous visiez la performance ou une expérience plus conviviale\, l’événement promet une ambiance motivante du début à la fin.
LOCATION:Saint-Florent-le-Vieil
URL:https://sportplan.vercel.app/es/events/6h-du-mont-glonne-2026-6h-duo-relais-saint-florent-le-vieil-2026-04-25
END:VEVENT
END:VCALENDAR
