BEGIN:VCALENDAR
VERSION:2.0
PRODID:-//SportPlan//Event Calendar//EN
CALSCALE:GREGORIAN
BEGIN:VEVENT
UID:f891e9d6-3a86-41f3-b98b-cc167f88abf5@sportplan.local
DTSTAMP:20260421T212623Z
DTSTART;VALUE=DATE:20260423
DTEND;VALUE=DATE:20260426
SUMMARY:66 Degrés Sud 2026
DESCRIPTION:66 Degrés Sud 2026 is an amateur-enterable gran fondo weekend scheduled for 23 to 25 April 2026 in Canet-en-Roussillon\, France. The official UCI Gran Fondo World Series event page points participants to the organizer-owned canonical site at 66-degres-sud.fr for event information.
LOCATION:Canet-en-Roussillon\, France
URL:https://sportplan.vercel.app/es/events/66-degres-sud-2026-canet-en-roussillon-2026-04-23
END:VEVENT
END:VCALENDAR
