BEGIN:VCALENDAR
VERSION:2.0
PRODID:-//SportPlan//Event Calendar//EN
CALSCALE:GREGORIAN
BEGIN:VEVENT
UID:9c4c8b50-c4ce-4049-a627-b0f8df4aea61@sportplan.local
DTSTAMP:20260421T224517Z
DTSTART;VALUE=DATE:20260503
DTEND;VALUE=DATE:20260504
SUMMARY:5150 Encarnación – Results
DESCRIPTION:Discovered via official IRONMAN race menu with web_fetch\; stable event subpage.
LOCATION:Encarnación\, Paraguay
URL:https://sportplan.vercel.app/es/events/5150-encarnacion-results-2026-05-03
END:VEVENT
END:VCALENDAR
