BEGIN:VCALENDAR
VERSION:2.0
PRODID:-//SportPlan//Event Calendar//EN
CALSCALE:GREGORIAN
BEGIN:VEVENT
UID:a3f229eb-0815-4168-bec5-aa9f3023ad06@sportplan.local
DTSTAMP:20260421T224337Z
DTSTART;VALUE=DATE:20260503
DTEND;VALUE=DATE:20260504
SUMMARY:5150 Encarnación
DESCRIPTION:discovered via official IRONMAN sitemap/race pages\; Paraguay had 0 queue entries before this run and was selected to expand Latin America coverage
LOCATION:Encarnación\, Paraguay
URL:https://sportplan.vercel.app/es/events/5150-encarnacion-2026-05-03
END:VEVENT
END:VCALENDAR
