BEGIN:VCALENDAR
VERSION:2.0
PRODID:-//SportPlan//Event Calendar//EN
CALSCALE:GREGORIAN
BEGIN:VEVENT
UID:3876c93c-dee0-43f3-9d82-b49aaee0e844@sportplan.local
DTSTAMP:20260421T213513Z
DTSTART;VALUE=DATE:20260912
DTEND;VALUE=DATE:20260913
SUMMARY:5150 Belgrade (probe)
DESCRIPTION:Legacy probe row retained without an official website_url after direct verification on 21 April 2026 showed the previous IRONMAN race URL returning a 404 page rather than a live event page.
LOCATION:Belgrade\, Serbia
URL:https://sportplan.vercel.app/es/events/5150-belgrade-probe-2026-09-12
END:VEVENT
END:VCALENDAR
