BEGIN:VCALENDAR
VERSION:2.0
PRODID:-//SportPlan//Event Calendar//EN
CALSCALE:GREGORIAN
BEGIN:VEVENT
UID:c79316d8-0a89-419e-ad6d-7a460721b8a1@sportplan.local
DTSTAMP:20260421T224732Z
DTSTART;VALUE=DATE:20260425
DTEND;VALUE=DATE:20260426
SUMMARY:3RIDES Gran Fondo 2026
DESCRIPTION:3RIDES Gran Fondo 2026 is an amateur-enterable gran fondo race scheduled for 25 April 2026 in Schweigen-Rechtenbach\, Germany. The official UCI Gran Fondo World Series event page points participants to the organizer-owned canonical site at 3rides.de for event information.
LOCATION:Schweigen-Rechtenbach\, Germany
URL:https://sportplan.vercel.app/es/events/3rides-gran-fondo-2026-schweigen-rechtenbach-2026-04-25
END:VEVENT
END:VCALENDAR
