BEGIN:VCALENDAR
VERSION:2.0
PRODID:-//SportPlan//Event Calendar//EN
CALSCALE:GREGORIAN
BEGIN:VEVENT
UID:3a9b9915-20a1-4ca8-8563-4f0813d9a1cc@sportplan.local
DTSTAMP:20260422T022738Z
DTSTART;VALUE=DATE:20260801
DTEND;VALUE=DATE:20260802
SUMMARY:2026 NZ Cross Country & Relay Championships
DESCRIPTION:The 2026 NZ Cross Country & Relay Championships are scheduled for 1 August 2026 at Hagley Park in Christchurch. The official Athletics New Zealand Events page says the championship returns to North Hagley Park with a fan-friendly course incorporating sections of the Hagley Golf Course\, and it exposes an official entries link for the 2026 meet.
LOCATION:Hagley Park\, Christchurch
URL:https://sportplan.vercel.app/es/events/2026-nz-cross-country-relay-championships-christchurch-2026-08-01
END:VEVENT
END:VCALENDAR
