BEGIN:VCALENDAR
VERSION:2.0
PRODID:-//SportPlan//Event Calendar//EN
CALSCALE:GREGORIAN
BEGIN:VEVENT
UID:52e2bbaf-b7eb-413a-85e1-4abffe92d8fd@sportplan.local
DTSTAMP:20260420T180425Z
DTSTART;VALUE=DATE:20260426
DTEND;VALUE=DATE:20260427
SUMMARY:Zurich Rock'n'roll Running Series Madrid Half Marathon 2026
DESCRIPTION:Official Zurich Rock'n'Roll Running Series Madrid page for the 26 April 2026 event weekend\, covering the half marathon and related race formats in Madrid with registration\, course and participant information.
LOCATION:Madrid
URL:https://sportplan.vercel.app/en/events/zurich-rock-n-roll-running-series-madrid-half-marathon-2026
END:VEVENT
END:VCALENDAR
