BEGIN:VCALENDAR
VERSION:2.0
PRODID:-//SportPlan//Event Calendar//EN
CALSCALE:GREGORIAN
BEGIN:VEVENT
UID:986a529f-a4d4-47c2-9b3e-f7e73b22cdc8@sportplan.local
DTSTAMP:20260420T210920Z
DTSTART;VALUE=DATE:20260802
DTEND;VALUE=DATE:20260803
SUMMARY:York 10k - United Kingdom
DESCRIPTION:York 10k - United Kingdom is scheduled for August 2\, 2026 in York. It offers a great opportunity to enjoy a well-organized sporting event with a strong atmosphere and an engaging course. Its accessible format and attractive setting make it a solid option for a wide range of participants.
LOCATION:York
URL:https://sportplan.vercel.app/en/events/york-10k-united-kingdom-york-2026-08-02
END:VEVENT
END:VCALENDAR
