BEGIN:VCALENDAR
VERSION:2.0
PRODID:-//SportPlan//Event Calendar//EN
CALSCALE:GREGORIAN
BEGIN:VEVENT
UID:454e8a46-e0c8-4e3d-b146-0ec247b670bc@sportplan.local
DTSTAMP:20260420T192101Z
DTSTART;VALUE=DATE:20261116
DTEND;VALUE=DATE:20261117
SUMMARY:XVII Subida al Castillo de Portezuelo
DESCRIPTION:XVII Subida al Castillo de Portezuelo se celebrará el 16 noviembre 2026 en Portezuelo\, Cáceres\, Extremadura\, ofreciendo una cita ideal para quienes quieren vivir el ambiente del evento desde cerca. Con una distancia aproximada de 19 km\, es una opción atractiva tanto para participantes habituales como para quienes quieren sumar un nuevo reto en el calendario.
LOCATION:Portezuelo\, Cáceres\, Extremadura
URL:https://sportplan.vercel.app/en/events/xvii-subida-al-castillo-de-portezuelo-portezuelo-2026-11-16-19k
END:VEVENT
END:VCALENDAR
