BEGIN:VCALENDAR
VERSION:2.0
PRODID:-//SportPlan//Event Calendar//EN
CALSCALE:GREGORIAN
BEGIN:VEVENT
UID:a4a466bc-cc79-4885-800f-ddeaa9605604@sportplan.local
DTSTAMP:20260420T234720Z
DTSTART;VALUE=DATE:20260913
DTEND;VALUE=DATE:20260914
SUMMARY:XVII Bieg Męczeństwa i Pamięci Narodowej Na Szwederowie — Marsz Nordic Walking 5km 5K
DESCRIPTION:
LOCATION:Bydgoszcz
URL:https://sportplan.vercel.app/en/events/xvii-bieg-meczenstwa-i-pamieci-narodowej-na-szwederowie-marsz-nordic-walking-5km-5k-bydgoszcz-2026-09-13
END:VEVENT
END:VCALENDAR
