BEGIN:VCALENDAR
VERSION:2.0
PRODID:-//SportPlan//Event Calendar//EN
CALSCALE:GREGORIAN
BEGIN:VEVENT
UID:0a1ceadf-42b3-44fd-9cbc-2959f8148857@sportplan.local
DTSTAMP:20260420T234738Z
DTSTART;VALUE=DATE:20260913
DTEND;VALUE=DATE:20260914
SUMMARY:XVII Bieg Męczeństwa i Pamięci Narodowej Na Szwederowie — Bieg Główny 7.5 km - Zapisy Parami 7.5K
DESCRIPTION:
LOCATION:Bydgoszcz
URL:https://sportplan.vercel.app/en/events/xvii-bieg-meczenstwa-i-pamieci-narodowej-na-szwederowie-bieg-g-owny-7-5km-zapisy-parami-7-5k-bydgoszcz-2026-09-13
END:VEVENT
END:VCALENDAR
