BEGIN:VCALENDAR
VERSION:2.0
PRODID:-//SportPlan//Event Calendar//EN
CALSCALE:GREGORIAN
BEGIN:VEVENT
UID:e5bc8c42-918a-419c-a9bb-8162b2a8701c@sportplan.local
DTSTAMP:20260420T193959Z
DTSTART;VALUE=DATE:20260821
DTEND;VALUE=DATE:20260824
SUMMARY:XTERRA Costa Rica 2026
DESCRIPTION:XTERRA Costa Rica 2026 is an amateur off-road triathlon and trail run festival in Las Catalinas\, Guanacaste\, Costa Rica. The official XTERRA event page shows a 21 to 23 August 2026 event window\, World Tour and Trail Run World Series branding\, and open athlete registration.
LOCATION:Las Catalinas
URL:https://sportplan.vercel.app/en/events/xterra-costa-rica-2026-las-catalinas-2026-08-21
END:VEVENT
END:VCALENDAR
